BEGIN:VCALENDAR
VERSION:2.0
PRODID:-//Crawford County Illinois - ECPv5.3.1//NONSGML v1.0//EN
CALSCALE:GREGORIAN
METHOD:PUBLISH
X-WR-CALNAME:Crawford County Illinois
X-ORIGINAL-URL:https://crawfordcountyil.org
X-WR-CALDESC:Events for Crawford County Illinois
BEGIN:VTIMEZONE
TZID:America/Chicago
BEGIN:DAYLIGHT
TZOFFSETFROM:-0600
TZOFFSETTO:-0500
TZNAME:CDT
DTSTART:20200308T080000
END:DAYLIGHT
BEGIN:STANDARD
TZOFFSETFROM:-0500
TZOFFSETTO:-0600
TZNAME:CST
DTSTART:20201101T070000
END:STANDARD
END:VTIMEZONE
BEGIN:VEVENT
DTSTART;TZID=America/Chicago:20200331T170000
DTEND;TZID=America/Chicago:20200331T190000
DTSTAMP:20260420T081824
CREATED:20200327T220345Z
LAST-MODIFIED:20200327T220345Z
UID:2661-1585674000-1585681200@crawfordcountyil.org
SUMMARY:EMERGENCY BOARD MEETING
DESCRIPTION:3-31-20
URL:https://crawfordcountyil.org/event/emergency-board-meeting/
LOCATION:Crawford County\, Illinois
CATEGORIES:Clerk Recorder
END:VEVENT
END:VCALENDAR