BEGIN:VCALENDAR
VERSION:2.0
PRODID:-//Crawford County Illinois - ECPv5.3.1//NONSGML v1.0//EN
CALSCALE:GREGORIAN
METHOD:PUBLISH
X-WR-CALNAME:Crawford County Illinois
X-ORIGINAL-URL:https://crawfordcountyil.org
X-WR-CALDESC:Events for Crawford County Illinois
BEGIN:VTIMEZONE
TZID:America/Chicago
BEGIN:DAYLIGHT
TZOFFSETFROM:-0600
TZOFFSETTO:-0500
TZNAME:CDT
DTSTART:20220313T080000
END:DAYLIGHT
BEGIN:STANDARD
TZOFFSETFROM:-0500
TZOFFSETTO:-0600
TZNAME:CST
DTSTART:20221106T070000
END:STANDARD
END:VTIMEZONE
BEGIN:VEVENT
DTSTART;VALUE=DATE:20221108
DTEND;VALUE=DATE:20221109
DTSTAMP:20260420T175020
CREATED:20221108T145532Z
LAST-MODIFIED:20221108T145532Z
UID:6444-1667865600-1667951999@crawfordcountyil.org
SUMMARY:General Election - November 8th
DESCRIPTION:
URL:https://crawfordcountyil.org/event/general-election-november-8th/
CATEGORIES:Clerk Recorder
END:VEVENT
END:VCALENDAR