BEGIN:VCALENDAR
VERSION:2.0
PRODID:-//Crawford County Illinois - ECPv5.3.1//NONSGML v1.0//EN
CALSCALE:GREGORIAN
METHOD:PUBLISH
X-WR-CALNAME:Crawford County Illinois
X-ORIGINAL-URL:https://crawfordcountyil.org
X-WR-CALDESC:Events for Crawford County Illinois
BEGIN:VTIMEZONE
TZID:America/Chicago
BEGIN:DAYLIGHT
TZOFFSETFROM:-0600
TZOFFSETTO:-0500
TZNAME:CDT
DTSTART:20200308T080000
END:DAYLIGHT
BEGIN:STANDARD
TZOFFSETFROM:-0500
TZOFFSETTO:-0600
TZNAME:CST
DTSTART:20201101T070000
END:STANDARD
END:VTIMEZONE
BEGIN:VEVENT
DTSTART;TZID=America/Chicago:20201208T153000
DTEND;TZID=America/Chicago:20201208T170000
DTSTAMP:20260425T232740
CREATED:20201205T000952Z
LAST-MODIFIED:20201205T000952Z
UID:3377-1607441400-1607446800@crawfordcountyil.org
SUMMARY:Road & Bridge Committee Meeting
DESCRIPTION:NOTICE-Committee Meeting
URL:https://crawfordcountyil.org/event/road-bridge-committee-meeting/
LOCATION:Crawford County\, Illinois
CATEGORIES:Clerk Recorder
END:VEVENT
END:VCALENDAR