BEGIN:VCALENDAR
VERSION:2.0
PRODID:-//Crawford County Illinois - ECPv5.3.1//NONSGML v1.0//EN
CALSCALE:GREGORIAN
METHOD:PUBLISH
X-WR-CALNAME:Crawford County Illinois
X-ORIGINAL-URL:https://crawfordcountyil.org
X-WR-CALDESC:Events for Crawford County Illinois
BEGIN:VTIMEZONE
TZID:America/Chicago
BEGIN:DAYLIGHT
TZOFFSETFROM:-0600
TZOFFSETTO:-0500
TZNAME:CDT
DTSTART:20230312T080000
END:DAYLIGHT
BEGIN:STANDARD
TZOFFSETFROM:-0500
TZOFFSETTO:-0600
TZNAME:CST
DTSTART:20231105T070000
END:STANDARD
END:VTIMEZONE
BEGIN:VEVENT
DTSTART;TZID=America/Chicago:20230615T100000
DTEND;TZID=America/Chicago:20230615T110000
DTSTAMP:20260421T223238
CREATED:20230206T161121Z
LAST-MODIFIED:20230207T221339Z
UID:7060-1686823200-1686826800@crawfordcountyil.org
SUMMARY:Solid Waste Meeting
DESCRIPTION:NOTICE:  There is a meeting for Solid Waste every 3rd Thursday (Quarterly) @ 10:00 am \nMeetings are held at the solid Waste Agency – 1700 S Eaton (Phone#:618-544-7045)
URL:https://crawfordcountyil.org/event/solid-waste-meeting-2023-06-15/2023-06-15/
END:VEVENT
END:VCALENDAR